Workbook

Sheet WD-W
A1: Kanton St.Gallen Bildungsdepartement Berufs- und Weiterbildungszentrum Buchs Sargans
A3: QV Notenrechner BM 1 WD-W | J3: ab QV 2029
B5: Erfahrungsnoten | I5: Prüfungsnote QV | J5: Fachnote Notenausweis
B6: 1. Semester | C6: 2. Semester | D6: 3. Semester | E6: 4. Semester | F6: 5. Semester | G6: 6. Semester | H6: ERFA-Note Ø
A8: Grundlagenbereich
A9: Deutsch | H9: =ROUND(AVERAGE(B9:G9),1) -> #DIV/0! | J9: =ROUND(AVERAGE(H9:I9)*2,0.5)/2 -> #DIV/0!
A10: Französisch | H10: =ROUND(AVERAGE(B10:G10),1) -> #DIV/0! | J10: =ROUND(AVERAGE(H10:I10)*2,0.5)/2 -> #DIV/0!
A11: Englisch | H11: =ROUND(AVERAGE(B11:G11),1) -> #DIV/0! | J11: =ROUND(AVERAGE(H11:I11)*2,0.5)/2 -> #DIV/0!
A12: Mathematik | H12: =ROUND(AVERAGE(B12:G12),1) -> #DIV/0! | J12: =ROUND(AVERAGE(H12:I12)*2,0.5)/2 -> #DIV/0!
A14: Schwerpunktbereich
A15: Finanz- und Rechnungswesen | H15: =ROUND(AVERAGE(B15:G15),1) -> #DIV/0! | J15: =ROUND(AVERAGE(H15:I15)*2,0.5)/2 -> #DIV/0!
A16: Wirtschaft und Recht | H16: =ROUND(AVERAGE(B16:G16),1) -> #DIV/0! | J16: =ROUND(AVERAGE(H16:I16)*2,0.5)/2 -> #DIV/0!
A18: Ergänzungsbereich
A19: Geschichte und Politik | H19: =ROUND(AVERAGE(B19:E19)*2,0.5)/2 -> #DIV/0! | J19: =H19 -> #DIV/0!
A20: Technik und Umwelt | H20: =ROUND(AVERAGE(F20:G20)*2,0.5)/2 -> #DIV/0! | J20: =H20 -> #DIV/0!
A22: Interdisziplinäres Arbeiten
A23: IDAF | H23: =ROUND(AVERAGE(D23:E23),1) -> #DIV/0! | J23: =ROUND(AVERAGE(H23:H24)*2,0.5)/2 -> #DIV/0!
A24: IDPA | H24: =G24 -> 0
A26: Gesamtnotenschnitt | J26: =ROUND(AVERAGE(J9:J23),1) -> #DIV/0!
A28: Gesamtnotendurchschnitt | I28: =J26 -> #DIV/0! | J28: =IF(I28>3.95,"erfüllt","nicht erfüllt") -> #DIV/0!
A29: Nicht mehr als 2 Fachnoten ungenügend | I29: =COUNTIF(J9:J23,"<4") -> 0 | J29: =IF(I29>2,"nicht erfüllt","erfüllt") -> erfüllt
A30: Notenabweichung von 4 (max. 2) | I30: =Tabelle2!A15 -> #DIV/0! | J30: =IF(I30>2,"nicht erfüllt","erfüllt") -> #DIV/0!

Sheet Tabelle2
A1: Minusnotenpunkte | B1: Anzahl UG | C1: Fach
A2: =IF('WD-W'!J9>3.9,0,'WD-W'!J9-4) -> #DIV/0! | C2: Deutsch
A3: =IF('WD-W'!J10>3.9,0,'WD-W'!J10-4) -> #DIV/0! | C3: Französisch
A4: =IF('WD-W'!J11>3.9,0,'WD-W'!J11-4) -> #DIV/0! | C4: Englisch
A5: =IF('WD-W'!J12>3.9,0,'WD-W'!J12-4) -> #DIV/0! | C5: Mathematik
A7: =IF('WD-W'!J15>3.9,0,'WD-W'!J15-4) -> #DIV/0! | C7: Finanz und Rechnungswesen
A8: =IF('WD-W'!J16>3.9,0,'WD-W'!J16-4) -> #DIV/0! | C8: Wirtschaft und Recht
A10: =IF('WD-W'!J19>3.9,0,'WD-W'!J19-4) -> #DIV/0! | C10: Geschichte und Politk
A11: =IF('WD-W'!J20>3.9,0,'WD-W'!J20-4) -> #DIV/0! | C11: Technik und Umwelt
A13: =IF('WD-W'!J23>3.9,0,'WD-W'!J23-4) -> #DIV/0! | C13: IDP
A15: =ABS(SUM(A2:A13)) -> #DIV/0!
